BEGIN:VCALENDAR
VERSION:2.0
PRODID:-//CR Events//EN
CALSCALE:GREGORIAN
METHOD:PUBLISH
BEGIN:VEVENT
UID:54313@oa.org
DTSTAMP:20260422T125839Z
X-WR-TIMEZONE:America/New_York
DTSTART;TZID=America/New_York:20260426T150000
DTEND;TZID=America/New_York:20260426T170000
SUMMARY:Abstinence Workshop
DESCRIPTION:Abstinence Workshop What is abstinence in Overeaters Anonymous? How do you build &amp\; maintain strong abstinence? Speaker Panel – Q&amp\;A – Fellowship April 26\, 2026 3 pm ET /2 pm CT /1 pm MT/12 pm PT
URL:https://oa.org/events/abstinence-workshop/
END:VEVENT
END:VCALENDAR
